Package: ternarynet Version: 1.52.0 Command: /Library/Frameworks/R.framework/Resources/bin/R CMD check --install=check:ternarynet.install-out.txt --library=/Library/Frameworks/R.framework/Resources/library --no-vignettes --timings ternarynet_1.52.0.tar.gz StartedAt: 2025-04-22 00:02:54 -0400 (Tue, 22 Apr 2025) EndedAt: 2025-04-22 00:04:10 -0400 (Tue, 22 Apr 2025) EllapsedTime: 75.6 seconds RetCode: 0 Status: OK CheckDir: ternarynet.Rcheck Warnings: 0