Package: ternarynet Version: 1.52.0 Command: /home/biocbuild/R/R/bin/R CMD INSTALL ternarynet StartedAt: 2025-09-29 20:17:00 -0000 (Mon, 29 Sep 2025) EndedAt: 2025-09-29 20:17:28 -0000 (Mon, 29 Sep 2025) EllapsedTime: 28.3 seconds RetCode: 0 Status: OK