Package: ternarynet Version: 1.52.0 Command: /home/biocbuild/R/R/bin/R CMD build --keep-empty-dirs --no-resave-data ternarynet StartedAt: 2025-09-30 05:53:24 -0000 (Tue, 30 Sep 2025) EndedAt: 2025-09-30 05:53:40 -0000 (Tue, 30 Sep 2025) EllapsedTime: 16.0 seconds RetCode: 0 Status: OK PackageFile: ternarynet_1.52.0.tar.gz PackageFileSize: 259.6 KiB