Package: ternarynet Version: 1.52.0 Command: /Library/Frameworks/R.framework/Resources/bin/R CMD build --keep-empty-dirs --no-resave-data ternarynet StartedAt: 2025-09-30 10:52:28 -0400 (Tue, 30 Sep 2025) EndedAt: 2025-09-30 10:52:47 -0400 (Tue, 30 Sep 2025) EllapsedTime: 19.2 seconds RetCode: 0 Status: OK PackageFile: ternarynet_1.52.0.tar.gz PackageFileSize: 268.1 KiB