Package: tenXplore Version: 1.30.0 Command: E:\biocbuild\bbs-3.21-bioc\R\bin\R.exe CMD INSTALL tenXplore StartedAt: 2025-08-14 16:41:25 -0400 (Thu, 14 Aug 2025) EndedAt: 2025-08-14 16:42:05 -0400 (Thu, 14 Aug 2025) EllapsedTime: 40.3 seconds RetCode: 0 Status: OK