Package: tenXplore Version: 1.30.0 Command: chmod a+r tenXplore -R && E:\biocbuild\bbs-3.21-bioc\R\bin\R.exe CMD build --keep-empty-dirs --no-resave-data tenXplore StartedAt: 2025-08-14 22:41:24 -0400 (Thu, 14 Aug 2025) EndedAt: 2025-08-14 22:42:22 -0400 (Thu, 14 Aug 2025) EllapsedTime: 58.1 seconds RetCode: 0 Status: OK PackageFile: tenXplore_1.30.0.tar.gz PackageFileSize: 2.434 MiB