Package: tenXplore Version: 1.30.0 Command: /Library/Frameworks/R.framework/Resources/bin/R CMD check --install=check:tenXplore.install-out.txt --library=/Library/Frameworks/R.framework/Resources/library --no-vignettes --timings tenXplore_1.30.0.tar.gz StartedAt: 2025-10-14 11:32:20 -0400 (Tue, 14 Oct 2025) EndedAt: 2025-10-14 11:41:48 -0400 (Tue, 14 Oct 2025) EllapsedTime: 567.9 seconds RetCode: 0 Status: OK CheckDir: tenXplore.Rcheck Warnings: 0