Package: tenXplore Version: 1.30.0 Command: /Library/Frameworks/R.framework/Resources/bin/R CMD build --keep-empty-dirs --no-resave-data tenXplore StartedAt: 2025-10-13 23:12:10 -0400 (Mon, 13 Oct 2025) EndedAt: 2025-10-13 23:13:43 -0400 (Mon, 13 Oct 2025) EllapsedTime: 92.7 seconds RetCode: 0 Status: OK PackageFile: tenXplore_1.30.0.tar.gz PackageFileSize: 2.433 MiB