Package: tenXplore Version: 1.30.0 Command: /home/biocbuild/R/R/bin/R CMD check --install=check:tenXplore.install-out.txt --library=/home/biocbuild/R/R/site-library --no-vignettes --timings tenXplore_1.30.0.tar.gz StartedAt: 2025-10-10 14:47:17 -0000 (Fri, 10 Oct 2025) EndedAt: 2025-10-10 14:53:33 -0000 (Fri, 10 Oct 2025) EllapsedTime: 376.4 seconds RetCode: 0 Status: OK CheckDir: tenXplore.Rcheck Warnings: 0