Package: tanggle Version: 1.14.0 Command: rm -rf tanggle.buildbin-libdir && mkdir tanggle.buildbin-libdir && E:\biocbuild\bbs-3.21-bioc\R\bin\R.exe CMD INSTALL --build --library=tanggle.buildbin-libdir tanggle_1.14.0.tar.gz StartedAt: 2025-08-15 10:26:55 -0400 (Fri, 15 Aug 2025) EndedAt: 2025-08-15 10:27:20 -0400 (Fri, 15 Aug 2025) EllapsedTime: 24.5 seconds RetCode: 0 Status: OK PackageFile: tanggle_1.14.0.zip PackageFileSize: 1.177 MiB