Package: tRanslatome Version: 1.46.0 Command: /Library/Frameworks/R.framework/Resources/bin/R CMD check --install=check:tRanslatome.install-out.txt --library=/Library/Frameworks/R.framework/Resources/library --no-vignettes --timings tRanslatome_1.46.0.tar.gz StartedAt: 2025-10-14 11:49:05 -0400 (Tue, 14 Oct 2025) EndedAt: 2025-10-14 11:59:41 -0400 (Tue, 14 Oct 2025) EllapsedTime: 635.8 seconds RetCode: 0 Status: OK CheckDir: tRanslatome.Rcheck Warnings: 0