Package: tRanslatome Version: 1.46.0 Command: /home/biocbuild/R/R/bin/R CMD check --install=check:tRanslatome.install-out.txt --library=/home/biocbuild/R/R/site-library --no-vignettes --timings tRanslatome_1.46.0.tar.gz StartedAt: 2025-10-10 14:59:53 -0000 (Fri, 10 Oct 2025) EndedAt: 2025-10-10 15:06:47 -0000 (Fri, 10 Oct 2025) EllapsedTime: 414.6 seconds RetCode: 0 Status: OK CheckDir: tRanslatome.Rcheck Warnings: 0