Package: tRanslatome Version: 1.46.0 Command: /home/biocbuild/R/R/bin/R CMD build --keep-empty-dirs --no-resave-data tRanslatome StartedAt: 2025-10-14 05:28:58 -0000 (Tue, 14 Oct 2025) EndedAt: 2025-10-14 05:30:56 -0000 (Tue, 14 Oct 2025) EllapsedTime: 118.1 seconds RetCode: 0 Status: OK PackageFile: tRanslatome_1.46.0.tar.gz PackageFileSize: 929.1 KiB