Package: tRanslatome Version: 1.46.0 Command: /Library/Frameworks/R.framework/Resources/bin/R CMD build --keep-empty-dirs --no-resave-data tRanslatome StartedAt: 2025-10-07 11:49:03 -0400 (Tue, 07 Oct 2025) EndedAt: 2025-10-07 11:51:07 -0400 (Tue, 07 Oct 2025) EllapsedTime: 124.1 seconds RetCode: 0 Status: OK PackageFile: tRanslatome_1.46.0.tar.gz PackageFileSize: 936.1 KiB