Package: tRanslatome Version: 1.46.0 Command: rm -rf tRanslatome.buildbin-libdir && mkdir tRanslatome.buildbin-libdir && /Users/biocbuild/BBS/utils/build-universal.sh tRanslatome_1.46.0.tar.gz /Library/Frameworks/R.framework/Resources/bin/R tRanslatome.buildbin-libdir StartedAt: 2025-10-08 23:28:50 -0400 (Wed, 08 Oct 2025) EndedAt: 2025-10-08 23:29:50 -0400 (Wed, 08 Oct 2025) EllapsedTime: 59.5 seconds RetCode: 0 Status: OK PackageFile: tRanslatome_1.46.0.tgz PackageFileSize: 1.316 MiB