Package: tRNAdbImport Version: 1.28.0 Command: /home/biocbuild/bbs-3.22-bioc/R/bin/R CMD check --install=check:tRNAdbImport.install-out.txt --library=/home/biocbuild/bbs-3.22-bioc/R/site-library --timings tRNAdbImport_1.28.0.tar.gz StartedAt: 2025-11-17 05:15:15 -0500 (Mon, 17 Nov 2025) EndedAt: 2025-11-17 05:17:15 -0500 (Mon, 17 Nov 2025) EllapsedTime: 119.1 seconds RetCode: 0 Status: OK CheckDir: tRNAdbImport.Rcheck Warnings: 0