Package: tRNA Version: 1.28.0 Command: /home/biocbuild/R/R/bin/R CMD INSTALL tRNA StartedAt: 2025-11-17 21:45:56 -0000 (Mon, 17 Nov 2025) EndedAt: 2025-11-17 21:46:19 -0000 (Mon, 17 Nov 2025) EllapsedTime: 22.9 seconds RetCode: 0 Status: OK