Package: tRNA Version: 1.28.0 Command: /home/biocbuild/R/R/bin/R CMD build --keep-empty-dirs --no-resave-data tRNA StartedAt: 2025-11-18 05:55:59 -0000 (Tue, 18 Nov 2025) EndedAt: 2025-11-18 06:00:07 -0000 (Tue, 18 Nov 2025) EllapsedTime: 248.2 seconds RetCode: 0 Status: OK PackageFile: tRNA_1.28.0.tar.gz PackageFileSize: 806.8 KiB