Package: tLOH Version: 1.16.0 Command: rm -rf tLOH.buildbin-libdir && mkdir tLOH.buildbin-libdir && /Users/biocbuild/BBS/utils/build-universal.sh tLOH_1.16.0.tar.gz /Library/Frameworks/R.framework/Resources/bin/R tLOH.buildbin-libdir StartedAt: 2025-10-14 14:58:16 -0400 (Tue, 14 Oct 2025) EndedAt: 2025-10-14 15:00:00 -0400 (Tue, 14 Oct 2025) EllapsedTime: 104.4 seconds RetCode: 0 Status: OK PackageFile: tLOH_1.16.0.tgz PackageFileSize: 2.507 MiB