Package: tLOH Version: 1.16.0 Command: /Library/Frameworks/R.framework/Resources/bin/R CMD build --keep-empty-dirs --no-resave-data tLOH StartedAt: 2025-09-30 11:02:33 -0400 (Tue, 30 Sep 2025) EndedAt: 2025-09-30 11:04:07 -0400 (Tue, 30 Sep 2025) EllapsedTime: 93.7 seconds RetCode: 0 Status: OK PackageFile: tLOH_1.16.0.tar.gz PackageFileSize: 2.45 MiB