Package: systemPipeTools Version: 1.18.0 Command: /home/biocbuild/bbs-3.22-bioc/R/bin/R CMD INSTALL systemPipeTools StartedAt: 2025-11-06 15:22:01 -0500 (Thu, 06 Nov 2025) EndedAt: 2025-11-06 15:22:25 -0500 (Thu, 06 Nov 2025) EllapsedTime: 24.6 seconds RetCode: 0 Status: OK