Package: systemPipeTools Version: 1.18.0 Command: /home/biocbuild/bbs-3.22-bioc/R/bin/R CMD check --install=check:systemPipeTools.install-out.txt --library=/home/biocbuild/bbs-3.22-bioc/R/site-library --timings systemPipeTools_1.18.0.tar.gz StartedAt: 2025-11-10 05:01:27 -0500 (Mon, 10 Nov 2025) EndedAt: 2025-11-10 05:06:18 -0500 (Mon, 10 Nov 2025) EllapsedTime: 291.4 seconds RetCode: 0 Status: WARNINGS CheckDir: systemPipeTools.Rcheck Warnings: 1