Package: systemPipeTools Version: 1.18.0 Command: /home/biocbuild/bbs-3.22-bioc/R/bin/R CMD build --keep-empty-dirs --no-resave-data --md5 systemPipeTools StartedAt: 2025-11-09 20:36:45 -0500 (Sun, 09 Nov 2025) EndedAt: 2025-11-09 20:37:45 -0500 (Sun, 09 Nov 2025) EllapsedTime: 60.0 seconds RetCode: 0 Status: OK PackageFile: systemPipeTools_1.18.0.tar.gz PackageFileSize: 990 KiB