Package: systemPipeTools Version: 1.18.0 Command: /Library/Frameworks/R.framework/Resources/bin/R CMD build --keep-empty-dirs --no-resave-data systemPipeTools StartedAt: 2025-11-03 19:02:53 -0500 (Mon, 03 Nov 2025) EndedAt: 2025-11-03 19:04:06 -0500 (Mon, 03 Nov 2025) EllapsedTime: 73.1 seconds RetCode: 0 Status: OK PackageFile: systemPipeTools_1.18.0.tar.gz PackageFileSize: 998.8 KiB