Package: systemPipeTools Version: 1.18.0 Command: /Library/Frameworks/R.framework/Resources/bin/R CMD build --keep-empty-dirs --no-resave-data systemPipeTools StartedAt: 2025-11-09 17:59:17 -0500 (Sun, 09 Nov 2025) EndedAt: 2025-11-09 17:59:43 -0500 (Sun, 09 Nov 2025) EllapsedTime: 25.3 seconds RetCode: 0 Status: OK PackageFile: systemPipeTools_1.18.0.tar.gz PackageFileSize: 1000 KiB