Package: systemPipeShiny Version: 1.18.0 Command: /Library/Frameworks/R.framework/Resources/bin/R CMD INSTALL systemPipeShiny StartedAt: 2025-10-13 15:16:56 -0400 (Mon, 13 Oct 2025) EndedAt: 2025-10-13 15:17:21 -0400 (Mon, 13 Oct 2025) EllapsedTime: 25.3 seconds RetCode: 0 Status: OK