Package: syntenet Version: 1.10.2 Command: /Library/Frameworks/R.framework/Resources/bin/R CMD INSTALL syntenet StartedAt: 2025-10-13 15:29:45 -0400 (Mon, 13 Oct 2025) EndedAt: 2025-10-13 15:31:09 -0400 (Mon, 13 Oct 2025) EllapsedTime: 83.6 seconds RetCode: 0 Status: OK