Package: syntenet Version: 1.10.2 Command: /Library/Frameworks/R.framework/Resources/bin/R CMD build --keep-empty-dirs --no-resave-data syntenet StartedAt: 2025-10-13 23:08:42 -0400 (Mon, 13 Oct 2025) EndedAt: 2025-10-13 23:12:31 -0400 (Mon, 13 Oct 2025) EllapsedTime: 229.1 seconds RetCode: 0 Status: OK PackageFile: syntenet_1.10.2.tar.gz PackageFileSize: 4.705 MiB