Package: syntenet Version: 1.10.0 Command: /Library/Frameworks/R.framework/Resources/bin/R CMD check --install=check:syntenet.install-out.txt --library=/Library/Frameworks/R.framework/Resources/library --no-vignettes --timings syntenet_1.10.0.tar.gz StartedAt: 2025-04-21 22:02:04 -0400 (Mon, 21 Apr 2025) EndedAt: 2025-04-21 22:03:52 -0400 (Mon, 21 Apr 2025) EllapsedTime: 108.4 seconds RetCode: 0 Status: OK CheckDir: syntenet.Rcheck Warnings: 0