Package: synlet Version: 2.9.0 Command: /home/biocbuild/R/R/bin/R CMD check --install=check:synlet.install-out.txt --library=/home/biocbuild/R/R/site-library --no-vignettes --timings synlet_2.9.0.tar.gz StartedAt: 2025-10-17 14:19:46 -0000 (Fri, 17 Oct 2025) EndedAt: 2025-10-17 14:20:48 -0000 (Fri, 17 Oct 2025) EllapsedTime: 62.2 seconds RetCode: 0 Status: OK CheckDir: synlet.Rcheck Warnings: 0