Package: synlet Version: 2.9.0 Command: /home/biocbuild/R/R/bin/R CMD build --keep-empty-dirs --no-resave-data synlet StartedAt: 2025-10-21 03:37:45 -0000 (Tue, 21 Oct 2025) EndedAt: 2025-10-21 03:38:30 -0000 (Tue, 21 Oct 2025) EllapsedTime: 45.0 seconds RetCode: 0 Status: OK PackageFile: synlet_2.9.0.tar.gz PackageFileSize: 848.4 KiB