Package: synapsis Version: 1.14.0 Command: /Library/Frameworks/R.framework/Resources/bin/R CMD INSTALL synapsis StartedAt: 2025-09-29 15:19:15 -0400 (Mon, 29 Sep 2025) EndedAt: 2025-09-29 15:19:25 -0400 (Mon, 29 Sep 2025) EllapsedTime: 10.5 seconds RetCode: 0 Status: OK