Package: synapsis Version: 1.14.0 Command: /Library/Frameworks/R.framework/Resources/bin/R CMD build --keep-empty-dirs --no-resave-data synapsis StartedAt: 2025-09-29 23:08:07 -0400 (Mon, 29 Sep 2025) EndedAt: 2025-09-29 23:09:04 -0400 (Mon, 29 Sep 2025) EllapsedTime: 57.1 seconds RetCode: 0 Status: OK PackageFile: synapsis_1.14.0.tar.gz PackageFileSize: 3.547 MiB