Package: synapsis Version: 1.14.0 Command: /Library/Frameworks/R.framework/Resources/bin/R CMD INSTALL synapsis StartedAt: 2025-04-21 15:07:05 -0400 (Mon, 21 Apr 2025) EndedAt: 2025-04-21 15:07:08 -0400 (Mon, 21 Apr 2025) EllapsedTime: 2.3 seconds RetCode: 0 Status: OK