Package: synapsis Version: 1.14.0 Command: /Library/Frameworks/R.framework/Resources/bin/R CMD check --install=check:synapsis.install-out.txt --library=/Library/Frameworks/R.framework/Resources/library --no-vignettes --timings synapsis_1.14.0.tar.gz StartedAt: 2025-10-01 14:53:11 -0400 (Wed, 01 Oct 2025) EndedAt: 2025-10-01 14:54:00 -0400 (Wed, 01 Oct 2025) EllapsedTime: 49.2 seconds RetCode: 0 Status: OK CheckDir: synapsis.Rcheck Warnings: 0