Package: switchde Version: 1.34.0 Command: rm -rf switchde.buildbin-libdir && mkdir switchde.buildbin-libdir && E:\biocbuild\bbs-3.21-bioc\R\bin\R.exe CMD INSTALL --build --library=switchde.buildbin-libdir switchde_1.34.0.tar.gz StartedAt: 2025-08-15 10:26:24 -0400 (Fri, 15 Aug 2025) EndedAt: 2025-08-15 10:27:05 -0400 (Fri, 15 Aug 2025) EllapsedTime: 40.1 seconds RetCode: 0 Status: OK PackageFile: switchde_1.34.0.zip PackageFileSize: 536.2 KiB