Package: switchde Version: 1.36.0 Command: /home/biocbuild/bbs-3.22-bioc/R/bin/R CMD check --install=check:switchde.install-out.txt --library=/home/biocbuild/bbs-3.22-bioc/R/site-library --timings switchde_1.36.0.tar.gz StartedAt: 2025-11-10 04:59:36 -0500 (Mon, 10 Nov 2025) EndedAt: 2025-11-10 05:02:49 -0500 (Mon, 10 Nov 2025) EllapsedTime: 193.3 seconds RetCode: 0 Status: OK CheckDir: switchde.Rcheck Warnings: 0