Package: switchde Version: 1.34.0 Command: /Library/Frameworks/R.framework/Resources/bin/R CMD INSTALL switchde StartedAt: 2025-09-25 15:57:27 -0400 (Thu, 25 Sep 2025) EndedAt: 2025-09-25 15:58:22 -0400 (Thu, 25 Sep 2025) EllapsedTime: 55.1 seconds RetCode: 0 Status: OK