Package: switchde Version: 1.34.0 Command: /Library/Frameworks/R.framework/Resources/bin/R CMD check --install=check:switchde.install-out.txt --library=/Library/Frameworks/R.framework/Resources/library --no-vignettes --timings switchde_1.34.0.tar.gz StartedAt: 2025-09-26 11:16:53 -0400 (Fri, 26 Sep 2025) EndedAt: 2025-09-26 11:23:27 -0400 (Fri, 26 Sep 2025) EllapsedTime: 394.0 seconds RetCode: 0 Status: OK CheckDir: switchde.Rcheck Warnings: 0