Package: switchde Version: 1.34.0 Command: /Library/Frameworks/R.framework/Resources/bin/R CMD build --keep-empty-dirs --no-resave-data switchde StartedAt: 2025-09-25 23:08:10 -0400 (Thu, 25 Sep 2025) EndedAt: 2025-09-25 23:09:45 -0400 (Thu, 25 Sep 2025) EllapsedTime: 95.0 seconds RetCode: 0 Status: OK PackageFile: switchde_1.34.0.tar.gz PackageFileSize: 1.031 MiB