Package: switchde Version: 1.34.0 Command: rm -rf switchde.buildbin-libdir && mkdir switchde.buildbin-libdir && /Users/biocbuild/BBS/utils/build-universal.sh switchde_1.34.0.tar.gz /Library/Frameworks/R.framework/Resources/bin/R switchde.buildbin-libdir StartedAt: 2025-09-26 16:13:29 -0400 (Fri, 26 Sep 2025) EndedAt: 2025-09-26 16:14:26 -0400 (Fri, 26 Sep 2025) EllapsedTime: 56.7 seconds RetCode: 0 Status: OK PackageFile: switchde_1.34.0.tgz PackageFileSize: 1.072 MiB