Package: switchBox Version: 1.46.0 Command: /home/biocbuild/R/R/bin/R CMD INSTALL switchBox StartedAt: 2025-11-17 21:05:09 -0000 (Mon, 17 Nov 2025) EndedAt: 2025-11-17 21:05:35 -0000 (Mon, 17 Nov 2025) EllapsedTime: 25.8 seconds RetCode: 0 Status: OK