Package: switchBox Version: 1.46.0 Command: /home/biocbuild/R/R/bin/R CMD build --keep-empty-dirs --no-resave-data switchBox StartedAt: 2025-11-18 05:38:18 -0000 (Tue, 18 Nov 2025) EndedAt: 2025-11-18 05:38:30 -0000 (Tue, 18 Nov 2025) EllapsedTime: 12.0 seconds RetCode: 0 Status: OK PackageFile: switchBox_1.46.0.tar.gz PackageFileSize: 462.9 KiB