Package: svaRetro Version: 1.14.0 Command: /Library/Frameworks/R.framework/Resources/bin/R CMD INSTALL svaRetro StartedAt: 2025-10-13 16:31:34 -0400 (Mon, 13 Oct 2025) EndedAt: 2025-10-13 16:32:55 -0400 (Mon, 13 Oct 2025) EllapsedTime: 81.5 seconds RetCode: 0 Status: OK