Package: svaRetro Version: 1.14.0 Command: /Library/Frameworks/R.framework/Resources/bin/R CMD build --keep-empty-dirs --no-resave-data svaRetro StartedAt: 2025-10-13 23:07:08 -0400 (Mon, 13 Oct 2025) EndedAt: 2025-10-13 23:09:48 -0400 (Mon, 13 Oct 2025) EllapsedTime: 160.0 seconds RetCode: 0 Status: OK PackageFile: svaRetro_1.14.0.tar.gz PackageFileSize: 1.534 MiB