Package: svaRetro Version: 1.14.0 Command: rm -rf svaRetro.buildbin-libdir && mkdir svaRetro.buildbin-libdir && /Users/biocbuild/BBS/utils/build-universal.sh svaRetro_1.14.0.tar.gz /Library/Frameworks/R.framework/Resources/bin/R svaRetro.buildbin-libdir StartedAt: 2025-10-14 14:55:18 -0400 (Tue, 14 Oct 2025) EndedAt: 2025-10-14 14:56:50 -0400 (Tue, 14 Oct 2025) EllapsedTime: 92.5 seconds RetCode: 0 Status: OK PackageFile: svaRetro_1.14.0.tgz PackageFileSize: 1.531 MiB