Package: svaRetro Version: 1.14.0 Command: /Library/Frameworks/R.framework/Resources/bin/R CMD INSTALL svaRetro StartedAt: 2025-10-13 17:59:14 -0400 (Mon, 13 Oct 2025) EndedAt: 2025-10-13 18:00:00 -0400 (Mon, 13 Oct 2025) EllapsedTime: 46.0 seconds RetCode: 0 Status: OK