Package: sva Version: 3.57.0 Command: F:\biocbuild\bbs-3.22-bioc\R\bin\R.exe CMD check --no-multiarch --install=check:sva.install-out.txt --library=F:\biocbuild\bbs-3.22-bioc\R\library --no-vignettes --timings sva_3.57.0.tar.gz StartedAt: 2025-08-15 08:35:11 -0400 (Fri, 15 Aug 2025) EndedAt: 2025-08-15 08:39:21 -0400 (Fri, 15 Aug 2025) EllapsedTime: 250.5 seconds RetCode: 0 Status: OK CheckDir: sva.Rcheck Warnings: 0