Package: sva Version: 3.58.0 Command: /Library/Frameworks/R.framework/Resources/bin/R CMD INSTALL sva StartedAt: 2025-11-03 15:30:30 -0500 (Mon, 03 Nov 2025) EndedAt: 2025-11-03 15:30:56 -0500 (Mon, 03 Nov 2025) EllapsedTime: 26.7 seconds RetCode: 0 Status: OK