Package: sva Version: 3.58.0 Command: rm -rf sva.buildbin-libdir && mkdir sva.buildbin-libdir && /Users/biocbuild/BBS/utils/build-universal.sh sva_3.58.0.tar.gz /Library/Frameworks/R.framework/Resources/bin/R sva.buildbin-libdir StartedAt: 2025-11-04 02:07:39 -0500 (Tue, 04 Nov 2025) EndedAt: 2025-11-04 02:08:09 -0500 (Tue, 04 Nov 2025) EllapsedTime: 30.1 seconds RetCode: 0 Status: OK PackageFile: sva_3.58.0.tgz PackageFileSize: 527 KiB